BEGIN:VCALENDAR
VERSION:2.0
PRODID:-//ODIN - ECPv6.0.10//NONSGML v1.0//EN
CALSCALE:GREGORIAN
METHOD:PUBLISH
X-ORIGINAL-URL:https://ma-odin.nl
X-WR-CALDESC:Events for ODIN
REFRESH-INTERVAL;VALUE=DURATION:PT1H
X-Robots-Tag:noindex
X-PUBLISHED-TTL:PT1H
BEGIN:VTIMEZONE
TZID:Europe/Paris
BEGIN:DAYLIGHT
TZOFFSETFROM:+0100
TZOFFSETTO:+0200
TZNAME:CEST
DTSTART:20250330T010000
END:DAYLIGHT
BEGIN:STANDARD
TZOFFSETFROM:+0200
TZOFFSETTO:+0100
TZNAME:CET
DTSTART:20251026T010000
END:STANDARD
TZID:Europe/Amsterdam
BEGIN:DAYLIGHT
TZOFFSETFROM:+0100
TZOFFSETTO:+0200
TZNAME:CEST
DTSTART:20230326T010000
END:DAYLIGHT
BEGIN:STANDARD
TZOFFSETFROM:+0200
TZOFFSETTO:+0100
TZNAME:CET
DTSTART:20231029T010000
END:STANDARD
END:VTIMEZONE
BEGIN:VEVENT
DTSTART;TZID=Europe/Paris:20250310T123000
DTEND;TZID=Europe/Paris:20250310T133000
DTSTAMP:20260424T143527
CREATED:20250217T163833Z
LAST-MODIFIED:20250306T113520Z
UID:2547-1741609800-1741613400@ma-odin.nl
SUMMARY:[LUSTRUM] ODDDDDDDDDDIN
DESCRIPTION:Join the start of the ODIN Lustrum with a fun twist on the ODDDDDDDDDDIN\, one of the most traditional activities of Odin. Come enjoy a piece of the longest durum ever made in Flux\, completely free of charge!  The lunch will be held in the break at the Master Association Hub on floor 6.  \nNOTE: we will be making a very basic döner\, there will be some toppings that you have put on it yourself\, if you have any allergies or are vegetarian we will take that into account\, but meat preferences not. It will still be very tasty!
URL:https://ma-odin.nl/event/lustrum-oddddddddin/
LOCATION:Master Association Hub
CATEGORIES:Lunch
END:VEVENT
BEGIN:VEVENT
DTSTART;TZID=Europe/Amsterdam:20230116T123000
DTEND;TZID=Europe/Amsterdam:20230116T133000
DTSTAMP:20260424T143527
CREATED:20230105T153058Z
LAST-MODIFIED:20230112T145616Z
UID:2192-1673872200-1673875800@ma-odin.nl
SUMMARY:ODDDDDDDDDIN
DESCRIPTION:A new year\, a new ODDDDDDDDIN! Because this time Odin does Döner this time during a Monday! (ODIN doet doorgaans döner op dinsdag en/of donderdag\, maar ditmaal daarintegen doen ze het op de maandag) \n Subscribe in time to get your durum\, falafel or other delicious threat delivered right to you on campus. We will serve it form 12:40 onwards at the master associations working places on Flux floor 6. \nThe options are: \n\nDürum (döner\, chicken döner or falafel) – €6.50\,-\nSandwich (broodje) (döne\, chicken döner or falafel) – €6\,-\n\nPlease indicate the food your want in the comments/food preference textbox BEFORE Monday 16-01 09:00 \nAs our restaurant of choice was not available anymore\, the prices have decreased and the options have changed. People with conflicting choices will be informed. \nBe there or be square!
URL:https://ma-odin.nl/event/odddddddddin/
LOCATION:Master Association Hub
CATEGORIES:Lunch
END:VEVENT
END:VCALENDAR